BEGIN:VCALENDAR
VERSION:2.0
PRODID:-//Association de danse Country Road N7 - ECPv6.15.20//NONSGML v1.0//EN
CALSCALE:GREGORIAN
METHOD:PUBLISH
X-WR-CALNAME:Association de danse Country Road N7
X-ORIGINAL-URL:https://countryroadn7.fr
X-WR-CALDESC:Évènements pour Association de danse Country Road N7
REFRESH-INTERVAL;VALUE=DURATION:PT1H
X-Robots-Tag:noindex
X-PUBLISHED-TTL:PT1H
BEGIN:VTIMEZONE
TZID:Europe/Paris
BEGIN:DAYLIGHT
TZOFFSETFROM:+0100
TZOFFSETTO:+0200
TZNAME:CEST
DTSTART:20250330T010000
END:DAYLIGHT
BEGIN:STANDARD
TZOFFSETFROM:+0200
TZOFFSETTO:+0100
TZNAME:CET
DTSTART:20251026T010000
END:STANDARD
BEGIN:DAYLIGHT
TZOFFSETFROM:+0100
TZOFFSETTO:+0200
TZNAME:CEST
DTSTART:20260329T010000
END:DAYLIGHT
BEGIN:STANDARD
TZOFFSETFROM:+0200
TZOFFSETTO:+0100
TZNAME:CET
DTSTART:20261025T010000
END:STANDARD
BEGIN:DAYLIGHT
TZOFFSETFROM:+0100
TZOFFSETTO:+0200
TZNAME:CEST
DTSTART:20270328T010000
END:DAYLIGHT
BEGIN:STANDARD
TZOFFSETFROM:+0200
TZOFFSETTO:+0100
TZNAME:CET
DTSTART:20271031T010000
END:STANDARD
END:VTIMEZONE
BEGIN:VEVENT
DTSTART;VALUE=DATE:20260124
DTEND;VALUE=DATE:20260126
DTSTAMP:20260420T192734
CREATED:20260118T143407Z
LAST-MODIFIED:20260118T143625Z
UID:4751-1769212800-1769385599@countryroadn7.fr
SUMMARY:Western experience 2026
DESCRIPTION:Le plus grand festival de musique country et western d’Europe est de retour en 2026\, les 24 et 25 janvier. \nPour plus d’informations\, vous pouvez consulter le site de l’évènement ici : westernexperience.com
URL:https://countryroadn7.fr/index.php/event/western-experience-2026/
CATEGORIES:Sorties
END:VEVENT
END:VCALENDAR