BEGIN:VCALENDAR
VERSION:2.0
PRODID:-//Association de danse Country Road N7 - ECPv6.15.20//NONSGML v1.0//EN
CALSCALE:GREGORIAN
METHOD:PUBLISH
X-ORIGINAL-URL:https://countryroadn7.fr
X-WR-CALDESC:Évènements pour Association de danse Country Road N7
REFRESH-INTERVAL;VALUE=DURATION:PT1H
X-Robots-Tag:noindex
X-PUBLISHED-TTL:PT1H
BEGIN:VTIMEZONE
TZID:Europe/Paris
BEGIN:DAYLIGHT
TZOFFSETFROM:+0100
TZOFFSETTO:+0200
TZNAME:CEST
DTSTART:20240331T010000
END:DAYLIGHT
BEGIN:STANDARD
TZOFFSETFROM:+0200
TZOFFSETTO:+0100
TZNAME:CET
DTSTART:20241027T010000
END:STANDARD
BEGIN:DAYLIGHT
TZOFFSETFROM:+0100
TZOFFSETTO:+0200
TZNAME:CEST
DTSTART:20250330T010000
END:DAYLIGHT
BEGIN:STANDARD
TZOFFSETFROM:+0200
TZOFFSETTO:+0100
TZNAME:CET
DTSTART:20251026T010000
END:STANDARD
BEGIN:DAYLIGHT
TZOFFSETFROM:+0100
TZOFFSETTO:+0200
TZNAME:CEST
DTSTART:20260329T010000
END:DAYLIGHT
BEGIN:STANDARD
TZOFFSETFROM:+0200
TZOFFSETTO:+0100
TZNAME:CET
DTSTART:20261025T010000
END:STANDARD
END:VTIMEZONE
BEGIN:VEVENT
DTSTART;VALUE=DATE:20251005
DTEND;VALUE=DATE:20251006
DTSTAMP:20260421T012245
CREATED:20251228T191430Z
LAST-MODIFIED:20260106T085148Z
UID:4508-1759622400-1759708799@countryroadn7.fr
SUMMARY:La « Coudraysienne Rose »
DESCRIPTION:Country Road N7 participe à  la « Coudraysienne Rose » pour lutter contre le cancer du sein\, au Coudray-Montceaux.
URL:https://countryroadn7.fr/index.php/event/la-coudraysienne-rose/
CATEGORIES:Sorties
ATTACH;FMTTYPE=image/jpeg:https://countryroadn7.fr/wp-content/uploads/2025/12/1-PHOTO-2025-10-05-12-41-56-e1767547136446.jpg
END:VEVENT
END:VCALENDAR