BEGIN:VCALENDAR
VERSION:2.0
PRODID:-//Association de danse Country Road N7 - ECPv6.15.20//NONSGML v1.0//EN
CALSCALE:GREGORIAN
METHOD:PUBLISH
X-ORIGINAL-URL:https://countryroadn7.fr
X-WR-CALDESC:Évènements pour Association de danse Country Road N7
REFRESH-INTERVAL;VALUE=DURATION:PT1H
X-Robots-Tag:noindex
X-PUBLISHED-TTL:PT1H
BEGIN:VTIMEZONE
TZID:Europe/Paris
BEGIN:DAYLIGHT
TZOFFSETFROM:+0100
TZOFFSETTO:+0200
TZNAME:CEST
DTSTART:20250330T010000
END:DAYLIGHT
BEGIN:STANDARD
TZOFFSETFROM:+0200
TZOFFSETTO:+0100
TZNAME:CET
DTSTART:20251026T010000
END:STANDARD
BEGIN:DAYLIGHT
TZOFFSETFROM:+0100
TZOFFSETTO:+0200
TZNAME:CEST
DTSTART:20260329T010000
END:DAYLIGHT
BEGIN:STANDARD
TZOFFSETFROM:+0200
TZOFFSETTO:+0100
TZNAME:CET
DTSTART:20261025T010000
END:STANDARD
BEGIN:DAYLIGHT
TZOFFSETFROM:+0100
TZOFFSETTO:+0200
TZNAME:CEST
DTSTART:20270328T010000
END:DAYLIGHT
BEGIN:STANDARD
TZOFFSETFROM:+0200
TZOFFSETTO:+0100
TZNAME:CET
DTSTART:20271031T010000
END:STANDARD
END:VTIMEZONE
BEGIN:VEVENT
DTSTART;VALUE=DATE:20260613
DTEND;VALUE=DATE:20260615
DTSTAMP:20260420T093704
CREATED:20251228T150352Z
LAST-MODIFIED:20251228T150545Z
UID:4405-1781308800-1781481599@countryroadn7.fr
SUMMARY:Festival country du Coudray-Montceaux
DESCRIPTION:La country s’invite de nouveau au Coudray-Montceaux : rendez-vous les 13 & 14 juin 2026 au stade R. Dautier ! \nDeux jours de concerts\, d’animations et d’ambiance western avec :\n Luke Bayne\n The Nashville Girls\n Rockin’ Chairs\n Mariotti Brothers\n Et dimanche : Ian Scott & Back West
URL:https://countryroadn7.fr/index.php/event/festival-country-du-coudray-montceaux/
CATEGORIES:Festival
END:VEVENT
END:VCALENDAR